BEGIN:VCALENDAR
VERSION:2.0
PRODID:-//Asociación Española de Fútbol de Mesa - ECPv6.15.20//NONSGML v1.0//EN
CALSCALE:GREGORIAN
METHOD:PUBLISH
X-WR-CALNAME:Asociación Española de Fútbol de Mesa
X-ORIGINAL-URL:http://aefutbolmesa.es
X-WR-CALDESC:Eventos para Asociación Española de Fútbol de Mesa
REFRESH-INTERVAL;VALUE=DURATION:PT1H
X-Robots-Tag:noindex
X-PUBLISHED-TTL:PT1H
BEGIN:VTIMEZONE
TZID:Europe/Madrid
BEGIN:DAYLIGHT
TZOFFSETFROM:+0100
TZOFFSETTO:+0200
TZNAME:CEST
DTSTART:20240331T010000
END:DAYLIGHT
BEGIN:STANDARD
TZOFFSETFROM:+0200
TZOFFSETTO:+0100
TZNAME:CET
DTSTART:20241027T010000
END:STANDARD
BEGIN:DAYLIGHT
TZOFFSETFROM:+0100
TZOFFSETTO:+0200
TZNAME:CEST
DTSTART:20250330T010000
END:DAYLIGHT
BEGIN:STANDARD
TZOFFSETFROM:+0200
TZOFFSETTO:+0100
TZNAME:CET
DTSTART:20251026T010000
END:STANDARD
BEGIN:DAYLIGHT
TZOFFSETFROM:+0100
TZOFFSETTO:+0200
TZNAME:CEST
DTSTART:20260329T010000
END:DAYLIGHT
BEGIN:STANDARD
TZOFFSETFROM:+0200
TZOFFSETTO:+0100
TZNAME:CET
DTSTART:20261025T010000
END:STANDARD
END:VTIMEZONE
BEGIN:VEVENT
DTSTART;TZID=Europe/Madrid:20250405T080000
DTEND;TZID=Europe/Madrid:20250405T170000
DTSTAMP:20260424T030618
CREATED:20250118T133358Z
LAST-MODIFIED:20250405T074419Z
UID:2052-1743840000-1743872400@aefutbolmesa.es
SUMMARY:Torneo LOCAL de Murcia (3)
DESCRIPTION:
URL:http://aefutbolmesa.es/campeonato/torneo-local-de-murcia-3/
LOCATION:Murcia\, Murcia\, Spain
CATEGORIES:Campeonato de Nivel 3
END:VEVENT
BEGIN:VEVENT
DTSTART;TZID=Europe/Madrid:20250413T080000
DTEND;TZID=Europe/Madrid:20250413T170000
DTSTAMP:20260424T030618
CREATED:20241015T170338Z
LAST-MODIFIED:20250317T103531Z
UID:1825-1744531200-1744563600@aefutbolmesa.es
SUMMARY:Torneo LOCAL de Valencia (4)
DESCRIPTION:
URL:http://aefutbolmesa.es/campeonato/torneo-local-de-valencia-4/
LOCATION:Valencia\, Valencia\, España
CATEGORIES:Campeonato de Nivel 3
END:VEVENT
END:VCALENDAR