BEGIN:VCALENDAR
VERSION:2.0
PRODID:-//Asociación Española de Fútbol de Mesa - ECPv6.15.20//NONSGML v1.0//EN
CALSCALE:GREGORIAN
METHOD:PUBLISH
X-ORIGINAL-URL:https://aefutbolmesa.es
X-WR-CALDESC:Eventos para Asociación Española de Fútbol de Mesa
REFRESH-INTERVAL;VALUE=DURATION:PT1H
X-Robots-Tag:noindex
X-PUBLISHED-TTL:PT1H
BEGIN:VTIMEZONE
TZID:Europe/Madrid
BEGIN:DAYLIGHT
TZOFFSETFROM:+0100
TZOFFSETTO:+0200
TZNAME:CEST
DTSTART:20240331T010000
END:DAYLIGHT
BEGIN:STANDARD
TZOFFSETFROM:+0200
TZOFFSETTO:+0100
TZNAME:CET
DTSTART:20241027T010000
END:STANDARD
BEGIN:DAYLIGHT
TZOFFSETFROM:+0100
TZOFFSETTO:+0200
TZNAME:CEST
DTSTART:20250330T010000
END:DAYLIGHT
BEGIN:STANDARD
TZOFFSETFROM:+0200
TZOFFSETTO:+0100
TZNAME:CET
DTSTART:20251026T010000
END:STANDARD
BEGIN:DAYLIGHT
TZOFFSETFROM:+0100
TZOFFSETTO:+0200
TZNAME:CEST
DTSTART:20260329T010000
END:DAYLIGHT
BEGIN:STANDARD
TZOFFSETFROM:+0200
TZOFFSETTO:+0100
TZNAME:CET
DTSTART:20261025T010000
END:STANDARD
BEGIN:DAYLIGHT
TZOFFSETFROM:+0100
TZOFFSETTO:+0200
TZNAME:CEST
DTSTART:20270328T010000
END:DAYLIGHT
BEGIN:STANDARD
TZOFFSETFROM:+0200
TZOFFSETTO:+0100
TZNAME:CET
DTSTART:20271031T010000
END:STANDARD
END:VTIMEZONE
BEGIN:VEVENT
DTSTART;TZID=Europe/Madrid:20251206T080000
DTEND;TZID=Europe/Madrid:20251207T170000
DTSTAMP:20260420T031812
CREATED:20250525T080351Z
LAST-MODIFIED:20250725T085301Z
UID:2388-1765008000-1765126800@aefutbolmesa.es
SUMMARY:Major Grand Prix of Bologna - 25/26
DESCRIPTION:
URL:https://aefutbolmesa.es/campeonato/major-grand-prix-of-bologna-25-26/
LOCATION:Bologna\, San Lazzaro (Bologne)\, Bologna\, Italia
CATEGORIES:Eventos relevantes de la FISTF
END:VEVENT
BEGIN:VEVENT
DTSTART;TZID=Europe/Madrid:20251221T080000
DTEND;TZID=Europe/Madrid:20251221T170000
DTSTAMP:20260420T031812
CREATED:20250721T144839Z
LAST-MODIFIED:20251023T175132Z
UID:2512-1766304000-1766336400@aefutbolmesa.es
SUMMARY:Campeonato de Almeria 2025 (Torneo Local)
DESCRIPTION:
URL:https://aefutbolmesa.es/campeonato/campeonato-de-almeria-2025-torneo-local/
LOCATION:Almeria\, Almeria\, España
CATEGORIES:Campeonato de Nivel 3
END:VEVENT
BEGIN:VEVENT
DTSTART;TZID=Europe/Madrid:20251227T080000
DTEND;TZID=Europe/Madrid:20251227T170000
DTSTAMP:20260420T031812
CREATED:20250704T085710Z
LAST-MODIFIED:20250704T085724Z
UID:2490-1766822400-1766854800@aefutbolmesa.es
SUMMARY:Satellite FISTF Madrid
DESCRIPTION:
URL:https://aefutbolmesa.es/campeonato/satellite-fistf-madrid-24-25/
LOCATION:Ciudad Deportiva Navafria (Moralzarzal)\, C/ Cañada 50\, Moralzarzal\, Madrid\, 28411\, España
CATEGORIES:Campeonato de Nivel 3
END:VEVENT
BEGIN:VEVENT
DTSTART;TZID=Europe/Madrid:20251228T080000
DTEND;TZID=Europe/Madrid:20251228T170000
DTSTAMP:20260420T031812
CREATED:20251106T114409Z
LAST-MODIFIED:20251214T103328Z
UID:2860-1766908800-1766941200@aefutbolmesa.es
SUMMARY:Torneo local de Valencia (I)
DESCRIPTION:
URL:https://aefutbolmesa.es/campeonato/torneo-local-de-valencia-i-25-26/
LOCATION:Pabellón municipal de Cheste\, CV-50\, 46380\, Cheste\, Valencia\, Spain
CATEGORIES:Campeonato de Nivel 3
END:VEVENT
BEGIN:VEVENT
DTSTART;TZID=Europe/Madrid:20260103T080000
DTEND;TZID=Europe/Madrid:20260103T170000
DTSTAMP:20260420T031812
CREATED:20251223T175723Z
LAST-MODIFIED:20251223T175747Z
UID:2928-1767427200-1767459600@aefutbolmesa.es
SUMMARY:XII Copa de Andalucía (Torneo local)
DESCRIPTION:
URL:https://aefutbolmesa.es/campeonato/xii-copa-de-andalucia/
LOCATION:Centro de interpretacion Los Tajillos\, Paseo de Roya s/n.\, Estepa\, Sevilla\, 41560\, España
CATEGORIES:Campeonato de Nivel 3
END:VEVENT
BEGIN:VEVENT
DTSTART;TZID=Europe/Madrid:20260118T080000
DTEND;TZID=Europe/Madrid:20260118T170000
DTSTAMP:20260420T031812
CREATED:20251106T114510Z
LAST-MODIFIED:20251106T114510Z
UID:2862-1768723200-1768755600@aefutbolmesa.es
SUMMARY:Torneo local de Valencia (II)
DESCRIPTION:
URL:https://aefutbolmesa.es/campeonato/torneo-local-de-valencia-ii-25-26/
LOCATION:Pabellón municipal de Cheste\, CV-50\, 46380\, Cheste\, Valencia\, Spain
CATEGORIES:Campeonato de Nivel 3
END:VEVENT
BEGIN:VEVENT
DTSTART;TZID=Europe/Madrid:20260118T080000
DTEND;TZID=Europe/Madrid:20260118T170000
DTSTAMP:20260420T031812
CREATED:20251218T080234Z
LAST-MODIFIED:20251218T080258Z
UID:2923-1768723200-1768755600@aefutbolmesa.es
SUMMARY:Torneo local de Murcia (I)
DESCRIPTION:
URL:https://aefutbolmesa.es/campeonato/torneo-local-de-murcia-2025-26-1/
LOCATION:Murcia\, Murcia\, Spain
CATEGORIES:Campeonato de Nivel 3
END:VEVENT
BEGIN:VEVENT
DTSTART;TZID=Europe/Madrid:20260124T080000
DTEND;TZID=Europe/Madrid:20260125T170000
DTSTAMP:20260420T031812
CREATED:20250525T080507Z
LAST-MODIFIED:20250725T085236Z
UID:2390-1769241600-1769360400@aefutbolmesa.es
SUMMARY:Major Grand Prix of Paris - 25/26
DESCRIPTION:
URL:https://aefutbolmesa.es/campeonato/major-grand-prix-of-paris-25-26/
LOCATION:Paris\, Paris\, Francia
CATEGORIES:Eventos relevantes de la FISTF
END:VEVENT
BEGIN:VEVENT
DTSTART;TZID=Europe/Madrid:20260214T080000
DTEND;TZID=Europe/Madrid:20260214T170000
DTSTAMP:20260420T031812
CREATED:20250725T093459Z
LAST-MODIFIED:20260126T095303Z
UID:2566-1771056000-1771088400@aefutbolmesa.es
SUMMARY:41º Campeonato de España
DESCRIPTION:
URL:https://aefutbolmesa.es/campeonato/41-campeonato-de-espana/
LOCATION:Centro de interpretacion Los Tajillos\, Paseo de Roya s/n.\, Estepa\, Sevilla\, 41560\, España
CATEGORIES:Campeonato especial
ATTACH;FMTTYPE=image/jpeg:https://aefutbolmesa.es/wp-content/uploads/2025/07/41_Campeonato_espana_2026.jpg
END:VEVENT
BEGIN:VEVENT
DTSTART;TZID=Europe/Madrid:20260307T080000
DTEND;TZID=Europe/Madrid:20260308T170000
DTSTAMP:20260420T031812
CREATED:20250525T080621Z
LAST-MODIFIED:20250725T085247Z
UID:2392-1772870400-1772989200@aefutbolmesa.es
SUMMARY:Major Grand Prix of Frameries - 25/26
DESCRIPTION:
URL:https://aefutbolmesa.es/campeonato/major-grand-prix-of-frameries-25-26/
LOCATION:Frameries\, Belgium
CATEGORIES:Eventos relevantes de la FISTF
END:VEVENT
BEGIN:VEVENT
DTSTART;TZID=Europe/Madrid:20260322T080000
DTEND;TZID=Europe/Madrid:20260322T170000
DTSTAMP:20260420T031812
CREATED:20260309T104917Z
LAST-MODIFIED:20260309T104917Z
UID:3074-1774166400-1774198800@aefutbolmesa.es
SUMMARY:Torneo local de Murcia (II)
DESCRIPTION:
URL:https://aefutbolmesa.es/campeonato/torneo-local-de-murcia-2026-2/
LOCATION:Murcia\, Murcia\, Spain
CATEGORIES:Campeonato de Nivel 3
END:VEVENT
BEGIN:VEVENT
DTSTART;TZID=Europe/Madrid:20260328T080000
DTEND;TZID=Europe/Madrid:20260328T170000
DTSTAMP:20260420T031812
CREATED:20250725T094014Z
LAST-MODIFIED:20250725T094038Z
UID:2571-1774684800-1774717200@aefutbolmesa.es
SUMMARY:LEFM 2025-26
DESCRIPTION:
URL:https://aefutbolmesa.es/campeonato/lefm-2025-26/
LOCATION:Carpa polivalent El Sorrallet\, Carrer dels Castanyers\, 5\, Montornès del Vallès\, Barcelna\, 08170\, Spain
CATEGORIES:Campeonato especial
END:VEVENT
BEGIN:VEVENT
DTSTART;TZID=Europe/Madrid:20260418T080000
DTEND;TZID=Europe/Madrid:20260418T170000
DTSTAMP:20260420T031812
CREATED:20250725T093755Z
LAST-MODIFIED:20250725T093835Z
UID:2569-1776499200-1776531600@aefutbolmesa.es
SUMMARY:I Torneo nacional de Almería
DESCRIPTION:
URL:https://aefutbolmesa.es/campeonato/i-torneo-nacional-de-almeria/
LOCATION:Almeria\, Almeria\, España
CATEGORIES:Campeonato de Nivel 2
END:VEVENT
BEGIN:VEVENT
DTSTART;TZID=Europe/Madrid:20260509T080000
DTEND;TZID=Europe/Madrid:20260510T170000
DTSTAMP:20260420T031812
CREATED:20250525T080746Z
LAST-MODIFIED:20250525T081421Z
UID:2394-1778313600-1778432400@aefutbolmesa.es
SUMMARY:Major de Mallorca - 25/26
DESCRIPTION:
URL:https://aefutbolmesa.es/campeonato/major-de-mallorca-25-26/
LOCATION:Poliesportiu Municipal S’Arenal de Llucmajor\, Avenida Europa s/n\, Llucmajor\, Mallorca\, 07609\, España
CATEGORIES:Campeonato de Nivel 1
END:VEVENT
BEGIN:VEVENT
DTSTART;TZID=Europe/Madrid:20260524T080000
DTEND;TZID=Europe/Madrid:20260524T170000
DTSTAMP:20260420T031812
CREATED:20260409T160949Z
LAST-MODIFIED:20260409T160949Z
UID:3113-1779609600-1779642000@aefutbolmesa.es
SUMMARY:Torneo local de Valencia (III)
DESCRIPTION:
URL:https://aefutbolmesa.es/campeonato/torneo-local-de-valencia-iii/
LOCATION:Pabellón municipal de Cheste\, CV-50\, 46380\, Cheste\, Valencia\, Spain
CATEGORIES:Campeonato de Nivel 3
END:VEVENT
BEGIN:VEVENT
DTSTART;TZID=Europe/Madrid:20260613T080000
DTEND;TZID=Europe/Madrid:20260614T170000
DTSTAMP:20260420T031812
CREATED:20250725T094148Z
LAST-MODIFIED:20260223T100847Z
UID:2573-1781337600-1781456400@aefutbolmesa.es
SUMMARY:La Copa de España - 2025/26
DESCRIPTION:
URL:https://aefutbolmesa.es/campeonato/la-copa-de-espana-2025-26/
LOCATION:Ciudad Deportiva Navafria (Moralzarzal)\, C/ Cañada 50\, Moralzarzal\, Madrid\, 28411\, España
CATEGORIES:Campeonato de Nivel 1
END:VEVENT
BEGIN:VEVENT
DTSTART;TZID=Europe/Madrid:20260627T080000
DTEND;TZID=Europe/Madrid:20260627T170000
DTSTAMP:20260420T031812
CREATED:20250525T081228Z
LAST-MODIFIED:20250525T081228Z
UID:2398-1782547200-1782579600@aefutbolmesa.es
SUMMARY:Major Grand Prix of Athens
DESCRIPTION:
URL:https://aefutbolmesa.es/campeonato/major-grand-prix-of-athens-25-26/
LOCATION:Valencia
CATEGORIES:Eventos relevantes de la FISTF
END:VEVENT
BEGIN:VEVENT
DTSTART;TZID=Europe/Madrid:20260712T080000
DTEND;TZID=Europe/Madrid:20260712T170000
DTSTAMP:20260420T031812
CREATED:20260409T161226Z
LAST-MODIFIED:20260409T161226Z
UID:3115-1783843200-1783875600@aefutbolmesa.es
SUMMARY:Torneo local de Valencia (IV)
DESCRIPTION:
URL:https://aefutbolmesa.es/campeonato/torneo-local-de-valencia-iv/
LOCATION:Pabellón municipal de Cheste\, CV-50\, 46380\, Cheste\, Valencia\, Spain
CATEGORIES:Campeonato de Nivel 3
END:VEVENT
BEGIN:VEVENT
DTSTART;TZID=Europe/Madrid:20260718T080000
DTEND;TZID=Europe/Madrid:20260719T170000
DTSTAMP:20260420T031812
CREATED:20250626T151738Z
LAST-MODIFIED:20250626T151738Z
UID:2443-1784361600-1784480400@aefutbolmesa.es
SUMMARY:International Open de Mataró (Barcelona) - 25/26
DESCRIPTION:
URL:https://aefutbolmesa.es/campeonato/international-open-de-mataro-barcelona-25-26/
LOCATION:Poliesportiu Escola Pia\, Camí Ral de la Mercè\, 370\, Mataró\, Barcelona\, 08301\, España
CATEGORIES:Campeonato de Nivel 1
ORGANIZER;CN="AS. Iluro FT.":MAILTO:iluro@futboldetaula.cat
END:VEVENT
END:VCALENDAR