BEGIN:VCALENDAR
VERSION:2.0
PRODID:-//Asociación Española de Fútbol de Mesa - ECPv6.15.20//NONSGML v1.0//EN
CALSCALE:GREGORIAN
METHOD:PUBLISH
X-ORIGINAL-URL:https://aefutbolmesa.es
X-WR-CALDESC:Eventos para Asociación Española de Fútbol de Mesa
REFRESH-INTERVAL;VALUE=DURATION:PT1H
X-Robots-Tag:noindex
X-PUBLISHED-TTL:PT1H
BEGIN:VTIMEZONE
TZID:Europe/Madrid
BEGIN:DAYLIGHT
TZOFFSETFROM:+0100
TZOFFSETTO:+0200
TZNAME:CEST
DTSTART:20230326T010000
END:DAYLIGHT
BEGIN:STANDARD
TZOFFSETFROM:+0200
TZOFFSETTO:+0100
TZNAME:CET
DTSTART:20231029T010000
END:STANDARD
BEGIN:DAYLIGHT
TZOFFSETFROM:+0100
TZOFFSETTO:+0200
TZNAME:CEST
DTSTART:20240331T010000
END:DAYLIGHT
BEGIN:STANDARD
TZOFFSETFROM:+0200
TZOFFSETTO:+0100
TZNAME:CET
DTSTART:20241027T010000
END:STANDARD
BEGIN:DAYLIGHT
TZOFFSETFROM:+0100
TZOFFSETTO:+0200
TZNAME:CEST
DTSTART:20250330T010000
END:DAYLIGHT
BEGIN:STANDARD
TZOFFSETFROM:+0200
TZOFFSETTO:+0100
TZNAME:CET
DTSTART:20251026T010000
END:STANDARD
END:VTIMEZONE
BEGIN:VEVENT
DTSTART;TZID=Europe/Madrid:20240706T090000
DTEND;TZID=Europe/Madrid:20240706T180000
DTSTAMP:20260423T030652
CREATED:20240701T105414Z
LAST-MODIFIED:20240701T114336Z
UID:1305-1720256400-1720288800@aefutbolmesa.es
SUMMARY:Satellite FISTF of Madrid 2024
DESCRIPTION:
URL:https://aefutbolmesa.es/campeonato/satellite-fistf-madrid-2024/
LOCATION:Ciudad Deportiva Navafria (Moralzarzal)\, C/ Cañada 50\, Moralzarzal\, Madrid\, 28411\, España
CATEGORIES:Campeonato de Nivel 3
END:VEVENT
BEGIN:VEVENT
DTSTART;TZID=Europe/Madrid:20240720T090000
DTEND;TZID=Europe/Madrid:20240720T183000
DTSTAMP:20260423T030652
CREATED:20240701T114852Z
LAST-MODIFIED:20240701T114852Z
UID:1332-1721466000-1721500200@aefutbolmesa.es
SUMMARY:Satellite FISTF of Mataró 2024
DESCRIPTION:
URL:https://aefutbolmesa.es/campeonato/satellite-fistf-of-mataro-2024/
LOCATION:Poliesportiu Escola Pia\, Camí Ral de la Mercè\, 370\, Mataró\, Barcelona\, 08301\, España
CATEGORIES:Campeonato de Nivel 3
ORGANIZER;CN="AS. Iluro FT.":MAILTO:iluro@futboldetaula.cat
END:VEVENT
END:VCALENDAR