BEGIN:VCALENDAR
VERSION:2.0
PRODID:-//Asociación Española de Fútbol de Mesa - ECPv6.15.20//NONSGML v1.0//EN
CALSCALE:GREGORIAN
METHOD:PUBLISH
X-WR-CALNAME:Asociación Española de Fútbol de Mesa
X-ORIGINAL-URL:https://aefutbolmesa.es
X-WR-CALDESC:Eventos para Asociación Española de Fútbol de Mesa
REFRESH-INTERVAL;VALUE=DURATION:PT1H
X-Robots-Tag:noindex
X-PUBLISHED-TTL:PT1H
BEGIN:VTIMEZONE
TZID:Europe/Madrid
BEGIN:DAYLIGHT
TZOFFSETFROM:+0100
TZOFFSETTO:+0200
TZNAME:CEST
DTSTART:20230326T010000
END:DAYLIGHT
BEGIN:STANDARD
TZOFFSETFROM:+0200
TZOFFSETTO:+0100
TZNAME:CET
DTSTART:20231029T010000
END:STANDARD
BEGIN:DAYLIGHT
TZOFFSETFROM:+0100
TZOFFSETTO:+0200
TZNAME:CEST
DTSTART:20240331T010000
END:DAYLIGHT
BEGIN:STANDARD
TZOFFSETFROM:+0200
TZOFFSETTO:+0100
TZNAME:CET
DTSTART:20241027T010000
END:STANDARD
BEGIN:DAYLIGHT
TZOFFSETFROM:+0100
TZOFFSETTO:+0200
TZNAME:CEST
DTSTART:20250330T010000
END:DAYLIGHT
BEGIN:STANDARD
TZOFFSETFROM:+0200
TZOFFSETTO:+0100
TZNAME:CET
DTSTART:20251026T010000
END:STANDARD
END:VTIMEZONE
BEGIN:VEVENT
DTSTART;TZID=Europe/Madrid:20241005T080000
DTEND;TZID=Europe/Madrid:20241006T170000
DTSTAMP:20260422T220735
CREATED:20240718T081739Z
LAST-MODIFIED:20240902T164524Z
UID:1411-1728115200-1728234000@aefutbolmesa.es
SUMMARY:Spanish IGP. Estepa (Sevilla)
DESCRIPTION:
URL:https://aefutbolmesa.es/campeonato/spanish-igp-estepa-sevilla/
LOCATION:Centro de interpretacion Los Tajillos\, Paseo de Roya s/n.\, Estepa\, Sevilla\, 41560\, España
CATEGORIES:Campeonato de Nivel 1
ATTACH;FMTTYPE=image/jpeg:https://aefutbolmesa.es/wp-content/uploads/2024/07/IGP_Estepa_2024.jpg
END:VEVENT
BEGIN:VEVENT
DTSTART;TZID=Europe/Madrid:20241020T080000
DTEND;TZID=Europe/Madrid:20241020T170000
DTSTAMP:20260422T220735
CREATED:20240902T162017Z
LAST-MODIFIED:20240902T162017Z
UID:1651-1729411200-1729443600@aefutbolmesa.es
SUMMARY:Torneo LOCAL de Catalunya (1)
DESCRIPTION:
URL:https://aefutbolmesa.es/campeonato/torneo-local-de-catalunya-barcelona/
LOCATION:Carpa polivalent El Sorrallet\, Carrer dels Castanyers\, 5\, Montornès del Vallès\, Barcelna\, 08170\, Spain
CATEGORIES:Campeonato de Nivel 3
END:VEVENT
BEGIN:VEVENT
DTSTART;TZID=Europe/Madrid:20241026T080000
DTEND;TZID=Europe/Madrid:20241027T170000
DTSTAMP:20260422T220735
CREATED:20240805T170846Z
LAST-MODIFIED:20240811T095637Z
UID:1516-1729929600-1730048400@aefutbolmesa.es
SUMMARY:ECSTFA Champions League 2024/25
DESCRIPTION:
URL:https://aefutbolmesa.es/campeonato/ecstfa-cl-24-25/
LOCATION:Athenas\, TBD - Athens\, Athens\, Grecia
CATEGORIES:Eventos relevantes de la FISTF
END:VEVENT
BEGIN:VEVENT
DTSTART;TZID=Europe/Madrid:20241026T083000
DTEND;TZID=Europe/Madrid:20241027T183000
DTSTAMP:20260422T220735
CREATED:20240805T171039Z
LAST-MODIFIED:20240811T095850Z
UID:1519-1729931400-1730053800@aefutbolmesa.es
SUMMARY:ECSTFA Europa League 2024/25
DESCRIPTION:
URL:https://aefutbolmesa.es/campeonato/ecstfa-el-24-25/
LOCATION:Lisboa\, Estádio do Restelo - Lisbon\, Lisbon\, Portugal
CATEGORIES:Eventos relevantes de la FISTF
END:VEVENT
END:VCALENDAR