BEGIN:VCALENDAR
VERSION:2.0
PRODID:-//Asociación Española de Fútbol de Mesa - ECPv6.15.20//NONSGML v1.0//EN
CALSCALE:GREGORIAN
METHOD:PUBLISH
X-ORIGINAL-URL:https://aefutbolmesa.es
X-WR-CALDESC:Eventos para Asociación Española de Fútbol de Mesa
REFRESH-INTERVAL;VALUE=DURATION:PT1H
X-Robots-Tag:noindex
X-PUBLISHED-TTL:PT1H
BEGIN:VTIMEZONE
TZID:Europe/Madrid
BEGIN:DAYLIGHT
TZOFFSETFROM:+0100
TZOFFSETTO:+0200
TZNAME:CEST
DTSTART:20230326T010000
END:DAYLIGHT
BEGIN:STANDARD
TZOFFSETFROM:+0200
TZOFFSETTO:+0100
TZNAME:CET
DTSTART:20231029T010000
END:STANDARD
BEGIN:DAYLIGHT
TZOFFSETFROM:+0100
TZOFFSETTO:+0200
TZNAME:CEST
DTSTART:20240331T010000
END:DAYLIGHT
BEGIN:STANDARD
TZOFFSETFROM:+0200
TZOFFSETTO:+0100
TZNAME:CET
DTSTART:20241027T010000
END:STANDARD
BEGIN:DAYLIGHT
TZOFFSETFROM:+0100
TZOFFSETTO:+0200
TZNAME:CEST
DTSTART:20250330T010000
END:DAYLIGHT
BEGIN:STANDARD
TZOFFSETFROM:+0200
TZOFFSETTO:+0100
TZNAME:CET
DTSTART:20251026T010000
END:STANDARD
END:VTIMEZONE
BEGIN:VEVENT
DTSTART;TZID=Europe/Madrid:20241215T080000
DTEND;TZID=Europe/Madrid:20241215T170000
DTSTAMP:20260422T180405
CREATED:20240718T084111Z
LAST-MODIFIED:20240902T161634Z
UID:1459-1734249600-1734282000@aefutbolmesa.es
SUMMARY:Torneo LOCAL de Catalunya (2)
DESCRIPTION:
URL:https://aefutbolmesa.es/campeonato/torneo-local-de-catalunya-iluro/
LOCATION:Local dels Capgrossos de Mataró\, Passatge Mariona Galindo Lora\, Mataró\, Barcelona\, 08301\, España
CATEGORIES:Campeonato de Nivel 3
ORGANIZER;CN="AS. Iluro FT.":MAILTO:iluro@futboldetaula.cat
END:VEVENT
BEGIN:VEVENT
DTSTART;TZID=Europe/Madrid:20241215T080000
DTEND;TZID=Europe/Madrid:20241215T170000
DTSTAMP:20260422T180405
CREATED:20240718T084605Z
LAST-MODIFIED:20241107T180145Z
UID:1467-1734249600-1734282000@aefutbolmesa.es
SUMMARY:Torneo LOCAL de Valencia (1)
DESCRIPTION:
URL:https://aefutbolmesa.es/campeonato/torneo-local-de-valencia-1-24-25/
LOCATION:Valencia\, Valencia\, España
CATEGORIES:Campeonato de Nivel 3
END:VEVENT
BEGIN:VEVENT
DTSTART;TZID=Europe/Madrid:20241221T080000
DTEND;TZID=Europe/Madrid:20241222T170000
DTSTAMP:20260422T180405
CREATED:20240718T083536Z
LAST-MODIFIED:20240718T083719Z
UID:1457-1734768000-1734886800@aefutbolmesa.es
SUMMARY:Torneo LOCAL de Andalucia (2)
DESCRIPTION:
URL:https://aefutbolmesa.es/campeonato/torneo-local-de-andalucia-2/
LOCATION:Centro de interpretacion Los Tajillos\, Paseo de Roya s/n.\, Estepa\, Sevilla\, 41560\, España
CATEGORIES:Campeonato de Nivel 3
END:VEVENT
END:VCALENDAR