BEGIN:VCALENDAR
VERSION:2.0
PRODID:-//Asociación Española de Fútbol de Mesa - ECPv6.15.20//NONSGML v1.0//EN
CALSCALE:GREGORIAN
METHOD:PUBLISH
X-ORIGINAL-URL:https://aefutbolmesa.es
X-WR-CALDESC:Eventos para Asociación Española de Fútbol de Mesa
REFRESH-INTERVAL;VALUE=DURATION:PT1H
X-Robots-Tag:noindex
X-PUBLISHED-TTL:PT1H
BEGIN:VTIMEZONE
TZID:Europe/Madrid
BEGIN:DAYLIGHT
TZOFFSETFROM:+0100
TZOFFSETTO:+0200
TZNAME:CEST
DTSTART:20240331T010000
END:DAYLIGHT
BEGIN:STANDARD
TZOFFSETFROM:+0200
TZOFFSETTO:+0100
TZNAME:CET
DTSTART:20241027T010000
END:STANDARD
BEGIN:DAYLIGHT
TZOFFSETFROM:+0100
TZOFFSETTO:+0200
TZNAME:CEST
DTSTART:20250330T010000
END:DAYLIGHT
BEGIN:STANDARD
TZOFFSETFROM:+0200
TZOFFSETTO:+0100
TZNAME:CET
DTSTART:20251026T010000
END:STANDARD
BEGIN:DAYLIGHT
TZOFFSETFROM:+0100
TZOFFSETTO:+0200
TZNAME:CEST
DTSTART:20260329T010000
END:DAYLIGHT
BEGIN:STANDARD
TZOFFSETFROM:+0200
TZOFFSETTO:+0100
TZNAME:CET
DTSTART:20261025T010000
END:STANDARD
END:VTIMEZONE
BEGIN:VEVENT
DTSTART;TZID=Europe/Madrid:20250510T080000
DTEND;TZID=Europe/Madrid:20250510T170000
DTSTAMP:20260420T132604
CREATED:20240718T084716Z
LAST-MODIFIED:20240718T084716Z
UID:1469-1746864000-1746896400@aefutbolmesa.es
SUMMARY:Torneo LOCAL de Madrid (2)
DESCRIPTION:
URL:https://aefutbolmesa.es/campeonato/torneo-local-de-madrid-2/
LOCATION:Ciudad Deportiva Navafria (Moralzarzal)\, C/ Cañada 50\, Moralzarzal\, Madrid\, 28411\, España
CATEGORIES:Campeonato de Nivel 3
END:VEVENT
BEGIN:VEVENT
DTSTART;TZID=Europe/Madrid:20250525T080000
DTEND;TZID=Europe/Madrid:20250525T170000
DTSTAMP:20260420T132604
CREATED:20250118T133509Z
LAST-MODIFIED:20250118T133509Z
UID:2054-1748160000-1748192400@aefutbolmesa.es
SUMMARY:Torneo LOCAL de Murcia (4)
DESCRIPTION:
URL:https://aefutbolmesa.es/campeonato/torneo-local-de-murcia-4/
LOCATION:Murcia\, Murcia\, Spain
CATEGORIES:Campeonato de Nivel 3
END:VEVENT
BEGIN:VEVENT
DTSTART;TZID=Europe/Madrid:20250531T080000
DTEND;TZID=Europe/Madrid:20250601T170000
DTSTAMP:20260420T132604
CREATED:20240805T171457Z
LAST-MODIFIED:20240805T171457Z
UID:1525-1748678400-1748797200@aefutbolmesa.es
SUMMARY:Major Grand Prix of Bologna
DESCRIPTION:
URL:https://aefutbolmesa.es/campeonato/major-grand-prix-of-bologna/
LOCATION:Bologna\, San Lazzaro (Bologne)\, Bologna\, Italia
CATEGORIES:Eventos relevantes de la FISTF
END:VEVENT
END:VCALENDAR