BEGIN:VCALENDAR
VERSION:2.0
PRODID:-//Asociación Española de Fútbol de Mesa - ECPv6.15.20//NONSGML v1.0//EN
CALSCALE:GREGORIAN
METHOD:PUBLISH
X-ORIGINAL-URL:https://aefutbolmesa.es
X-WR-CALDESC:Eventos para Asociación Española de Fútbol de Mesa
REFRESH-INTERVAL;VALUE=DURATION:PT1H
X-Robots-Tag:noindex
X-PUBLISHED-TTL:PT1H
BEGIN:VTIMEZONE
TZID:Europe/Madrid
BEGIN:DAYLIGHT
TZOFFSETFROM:+0100
TZOFFSETTO:+0200
TZNAME:CEST
DTSTART:20240331T010000
END:DAYLIGHT
BEGIN:STANDARD
TZOFFSETFROM:+0200
TZOFFSETTO:+0100
TZNAME:CET
DTSTART:20241027T010000
END:STANDARD
BEGIN:DAYLIGHT
TZOFFSETFROM:+0100
TZOFFSETTO:+0200
TZNAME:CEST
DTSTART:20250330T010000
END:DAYLIGHT
BEGIN:STANDARD
TZOFFSETFROM:+0200
TZOFFSETTO:+0100
TZNAME:CET
DTSTART:20251026T010000
END:STANDARD
BEGIN:DAYLIGHT
TZOFFSETFROM:+0100
TZOFFSETTO:+0200
TZNAME:CEST
DTSTART:20260329T010000
END:DAYLIGHT
BEGIN:STANDARD
TZOFFSETFROM:+0200
TZOFFSETTO:+0100
TZNAME:CET
DTSTART:20261025T010000
END:STANDARD
END:VTIMEZONE
BEGIN:VEVENT
DTSTART;TZID=Europe/Madrid:20250531T080000
DTEND;TZID=Europe/Madrid:20250601T170000
DTSTAMP:20260420T114621
CREATED:20240805T171457Z
LAST-MODIFIED:20240805T171457Z
UID:1525-1748678400-1748797200@aefutbolmesa.es
SUMMARY:Major Grand Prix of Bologna
DESCRIPTION:
URL:https://aefutbolmesa.es/campeonato/major-grand-prix-of-bologna/
LOCATION:Bologna\, San Lazzaro (Bologne)\, Bologna\, Italia
CATEGORIES:Eventos relevantes de la FISTF
END:VEVENT
BEGIN:VEVENT
DTSTART;TZID=Europe/Madrid:20250607T080000
DTEND;TZID=Europe/Madrid:20250608T170000
DTSTAMP:20260420T114621
CREATED:20240718T081807Z
LAST-MODIFIED:20250310T160637Z
UID:1424-1749283200-1749402000@aefutbolmesa.es
SUMMARY:LEFM 2025
DESCRIPTION:
URL:https://aefutbolmesa.es/campeonato/lefm-2025/
LOCATION:Ciudad Deportiva Navafria (Moralzarzal)\, C/ Cañada 50\, Moralzarzal\, Madrid\, 28411\, España
CATEGORIES:Campeonato especial
END:VEVENT
BEGIN:VEVENT
DTSTART;TZID=Europe/Madrid:20250628T080000
DTEND;TZID=Europe/Madrid:20250628T170000
DTSTAMP:20260420T114621
CREATED:20250525T081116Z
LAST-MODIFIED:20250525T081329Z
UID:2396-1751097600-1751130000@aefutbolmesa.es
SUMMARY:Major Grand Prix of Athens
DESCRIPTION:
URL:https://aefutbolmesa.es/campeonato/major-grand-prix-of-athens/
LOCATION:Valencia
CATEGORIES:Eventos relevantes de la FISTF
END:VEVENT
BEGIN:VEVENT
DTSTART;TZID=Europe/Madrid:20250628T080000
DTEND;TZID=Europe/Madrid:20250629T170000
DTSTAMP:20260420T114621
CREATED:20240718T081635Z
LAST-MODIFIED:20250310T161612Z
UID:1416-1751097600-1751216400@aefutbolmesa.es
SUMMARY:Golden GP de Valencia
DESCRIPTION:
URL:https://aefutbolmesa.es/campeonato/ggp-de-valencia/
LOCATION:Pabellón municipal de Cheste\, CV-50\, 46380\, Cheste\, Valencia\, Spain
CATEGORIES:Campeonato de Nivel 1
ATTACH;FMTTYPE=image/jpeg:https://aefutbolmesa.es/wp-content/uploads/2025/03/cheste_GGP_2025.jpg
END:VEVENT
END:VCALENDAR