BEGIN:VCALENDAR
VERSION:2.0
PRODID:-//Asociación Española de Fútbol de Mesa - ECPv6.15.20//NONSGML v1.0//EN
CALSCALE:GREGORIAN
METHOD:PUBLISH
X-ORIGINAL-URL:https://aefutbolmesa.es
X-WR-CALDESC:Eventos para Asociación Española de Fútbol de Mesa
REFRESH-INTERVAL;VALUE=DURATION:PT1H
X-Robots-Tag:noindex
X-PUBLISHED-TTL:PT1H
BEGIN:VTIMEZONE
TZID:Europe/Madrid
BEGIN:DAYLIGHT
TZOFFSETFROM:+0100
TZOFFSETTO:+0200
TZNAME:CEST
DTSTART:20240331T010000
END:DAYLIGHT
BEGIN:STANDARD
TZOFFSETFROM:+0200
TZOFFSETTO:+0100
TZNAME:CET
DTSTART:20241027T010000
END:STANDARD
BEGIN:DAYLIGHT
TZOFFSETFROM:+0100
TZOFFSETTO:+0200
TZNAME:CEST
DTSTART:20250330T010000
END:DAYLIGHT
BEGIN:STANDARD
TZOFFSETFROM:+0200
TZOFFSETTO:+0100
TZNAME:CET
DTSTART:20251026T010000
END:STANDARD
BEGIN:DAYLIGHT
TZOFFSETFROM:+0100
TZOFFSETTO:+0200
TZNAME:CEST
DTSTART:20260329T010000
END:DAYLIGHT
BEGIN:STANDARD
TZOFFSETFROM:+0200
TZOFFSETTO:+0100
TZNAME:CET
DTSTART:20261025T010000
END:STANDARD
END:VTIMEZONE
BEGIN:VEVENT
DTSTART;TZID=Europe/Madrid:20250719T080000
DTEND;TZID=Europe/Madrid:20250720T170000
DTSTAMP:20260420T100604
CREATED:20240718T081817Z
LAST-MODIFIED:20250626T151639Z
UID:1419-1752912000-1753030800@aefutbolmesa.es
SUMMARY:International Open de Mataró (Barcelona)
DESCRIPTION:
URL:https://aefutbolmesa.es/campeonato/io-de-mataro-barcelona/
LOCATION:Poliesportiu Escola Pia\, Camí Ral de la Mercè\, 370\, Mataró\, Barcelona\, 08301\, España
CATEGORIES:Campeonato de Nivel 1
ATTACH;FMTTYPE=image/jpeg:https://aefutbolmesa.es/wp-content/uploads/2024/07/IO_Mataro_2025.jpg
ORGANIZER;CN="AS. Iluro FT.":MAILTO:iluro@futboldetaula.cat
END:VEVENT
END:VCALENDAR