BEGIN:VCALENDAR
VERSION:2.0
PRODID:-//Asociación Española de Fútbol de Mesa - ECPv6.15.20//NONSGML v1.0//EN
CALSCALE:GREGORIAN
METHOD:PUBLISH
X-WR-CALNAME:Asociación Española de Fútbol de Mesa
X-ORIGINAL-URL:https://aefutbolmesa.es
X-WR-CALDESC:Eventos para Asociación Española de Fútbol de Mesa
REFRESH-INTERVAL;VALUE=DURATION:PT1H
X-Robots-Tag:noindex
X-PUBLISHED-TTL:PT1H
BEGIN:VTIMEZONE
TZID:Europe/Madrid
BEGIN:DAYLIGHT
TZOFFSETFROM:+0100
TZOFFSETTO:+0200
TZNAME:CEST
DTSTART:20240331T010000
END:DAYLIGHT
BEGIN:STANDARD
TZOFFSETFROM:+0200
TZOFFSETTO:+0100
TZNAME:CET
DTSTART:20241027T010000
END:STANDARD
BEGIN:DAYLIGHT
TZOFFSETFROM:+0100
TZOFFSETTO:+0200
TZNAME:CEST
DTSTART:20250330T010000
END:DAYLIGHT
BEGIN:STANDARD
TZOFFSETFROM:+0200
TZOFFSETTO:+0100
TZNAME:CET
DTSTART:20251026T010000
END:STANDARD
BEGIN:DAYLIGHT
TZOFFSETFROM:+0100
TZOFFSETTO:+0200
TZNAME:CEST
DTSTART:20260329T010000
END:DAYLIGHT
BEGIN:STANDARD
TZOFFSETFROM:+0200
TZOFFSETTO:+0100
TZNAME:CET
DTSTART:20261025T010000
END:STANDARD
END:VTIMEZONE
BEGIN:VEVENT
DTSTART;TZID=Europe/Madrid:20251004T080000
DTEND;TZID=Europe/Madrid:20251005T170000
DTSTAMP:20260420T050852
CREATED:20250626T151215Z
LAST-MODIFIED:20250831T155758Z
UID:2438-1759564800-1759683600@aefutbolmesa.es
SUMMARY:International Grand Prix de Estepa - 25/26
DESCRIPTION:
URL:https://aefutbolmesa.es/campeonato/igp-estepa-25-26/
LOCATION:Centro de interpretacion Los Tajillos\, Paseo de Roya s/n.\, Estepa\, Sevilla\, 41560\, España
CATEGORIES:Campeonato de Nivel 1
ATTACH;FMTTYPE=image/jpeg:https://aefutbolmesa.es/wp-content/uploads/2025/06/IGP_Estepa_2025.jpg
END:VEVENT
BEGIN:VEVENT
DTSTART;TZID=Europe/Madrid:20251025T080000
DTEND;TZID=Europe/Madrid:20251025T170000
DTSTAMP:20260420T050852
CREATED:20250626T155113Z
LAST-MODIFIED:20250626T155113Z
UID:2448-1761379200-1761411600@aefutbolmesa.es
SUMMARY:ECSFTA Champions & Europa League
DESCRIPTION:
URL:https://aefutbolmesa.es/campeonato/ecsfta-cl-el-25-26/
LOCATION:England\, United Kingdom
CATEGORIES:Eventos relevantes de la FISTF
END:VEVENT
END:VCALENDAR