BEGIN:VCALENDAR
VERSION:2.0
PRODID:-//Asociación Española de Fútbol de Mesa - ECPv6.15.20//NONSGML v1.0//EN
CALSCALE:GREGORIAN
METHOD:PUBLISH
X-WR-CALNAME:Asociación Española de Fútbol de Mesa
X-ORIGINAL-URL:https://aefutbolmesa.es
X-WR-CALDESC:Eventos para Asociación Española de Fútbol de Mesa
REFRESH-INTERVAL;VALUE=DURATION:PT1H
X-Robots-Tag:noindex
X-PUBLISHED-TTL:PT1H
BEGIN:VTIMEZONE
TZID:Europe/Madrid
BEGIN:DAYLIGHT
TZOFFSETFROM:+0100
TZOFFSETTO:+0200
TZNAME:CEST
DTSTART:20250330T010000
END:DAYLIGHT
BEGIN:STANDARD
TZOFFSETFROM:+0200
TZOFFSETTO:+0100
TZNAME:CET
DTSTART:20251026T010000
END:STANDARD
BEGIN:DAYLIGHT
TZOFFSETFROM:+0100
TZOFFSETTO:+0200
TZNAME:CEST
DTSTART:20260329T010000
END:DAYLIGHT
BEGIN:STANDARD
TZOFFSETFROM:+0200
TZOFFSETTO:+0100
TZNAME:CET
DTSTART:20261025T010000
END:STANDARD
BEGIN:DAYLIGHT
TZOFFSETFROM:+0100
TZOFFSETTO:+0200
TZNAME:CEST
DTSTART:20270328T010000
END:DAYLIGHT
BEGIN:STANDARD
TZOFFSETFROM:+0200
TZOFFSETTO:+0100
TZNAME:CET
DTSTART:20271031T010000
END:STANDARD
END:VTIMEZONE
BEGIN:VEVENT
DTSTART;TZID=Europe/Madrid:20260307T080000
DTEND;TZID=Europe/Madrid:20260308T170000
DTSTAMP:20260419T204838
CREATED:20250525T080621Z
LAST-MODIFIED:20250725T085247Z
UID:2392-1772870400-1772989200@aefutbolmesa.es
SUMMARY:Major Grand Prix of Frameries - 25/26
DESCRIPTION:
URL:https://aefutbolmesa.es/campeonato/major-grand-prix-of-frameries-25-26/
LOCATION:Frameries\, Belgium
CATEGORIES:Eventos relevantes de la FISTF
END:VEVENT
BEGIN:VEVENT
DTSTART;TZID=Europe/Madrid:20260322T080000
DTEND;TZID=Europe/Madrid:20260322T170000
DTSTAMP:20260419T204838
CREATED:20260309T104917Z
LAST-MODIFIED:20260309T104917Z
UID:3074-1774166400-1774198800@aefutbolmesa.es
SUMMARY:Torneo local de Murcia (II)
DESCRIPTION:
URL:https://aefutbolmesa.es/campeonato/torneo-local-de-murcia-2026-2/
LOCATION:Murcia\, Murcia\, Spain
CATEGORIES:Campeonato de Nivel 3
END:VEVENT
BEGIN:VEVENT
DTSTART;TZID=Europe/Madrid:20260328T080000
DTEND;TZID=Europe/Madrid:20260328T170000
DTSTAMP:20260419T204838
CREATED:20250725T094014Z
LAST-MODIFIED:20250725T094038Z
UID:2571-1774684800-1774717200@aefutbolmesa.es
SUMMARY:LEFM 2025-26
DESCRIPTION:
URL:https://aefutbolmesa.es/campeonato/lefm-2025-26/
LOCATION:Carpa polivalent El Sorrallet\, Carrer dels Castanyers\, 5\, Montornès del Vallès\, Barcelna\, 08170\, Spain
CATEGORIES:Campeonato especial
END:VEVENT
END:VCALENDAR