BEGIN:VCALENDAR
VERSION:2.0
PRODID:-//Asociación Española de Fútbol de Mesa - ECPv6.15.20//NONSGML v1.0//EN
CALSCALE:GREGORIAN
METHOD:PUBLISH
X-ORIGINAL-URL:https://aefutbolmesa.es
X-WR-CALDESC:Eventos para Asociación Española de Fútbol de Mesa
REFRESH-INTERVAL;VALUE=DURATION:PT1H
X-Robots-Tag:noindex
X-PUBLISHED-TTL:PT1H
BEGIN:VTIMEZONE
TZID:Europe/Madrid
BEGIN:DAYLIGHT
TZOFFSETFROM:+0100
TZOFFSETTO:+0200
TZNAME:CEST
DTSTART:20250330T010000
END:DAYLIGHT
BEGIN:STANDARD
TZOFFSETFROM:+0200
TZOFFSETTO:+0100
TZNAME:CET
DTSTART:20251026T010000
END:STANDARD
BEGIN:DAYLIGHT
TZOFFSETFROM:+0100
TZOFFSETTO:+0200
TZNAME:CEST
DTSTART:20260329T010000
END:DAYLIGHT
BEGIN:STANDARD
TZOFFSETFROM:+0200
TZOFFSETTO:+0100
TZNAME:CET
DTSTART:20261025T010000
END:STANDARD
BEGIN:DAYLIGHT
TZOFFSETFROM:+0100
TZOFFSETTO:+0200
TZNAME:CEST
DTSTART:20270328T010000
END:DAYLIGHT
BEGIN:STANDARD
TZOFFSETFROM:+0200
TZOFFSETTO:+0100
TZNAME:CET
DTSTART:20271031T010000
END:STANDARD
END:VTIMEZONE
BEGIN:VEVENT
DTSTART;TZID=Europe/Madrid:20260509T080000
DTEND;TZID=Europe/Madrid:20260510T170000
DTSTAMP:20260419T210113
CREATED:20250525T080746Z
LAST-MODIFIED:20250525T081421Z
UID:2394-1778313600-1778432400@aefutbolmesa.es
SUMMARY:Major de Mallorca - 25/26
DESCRIPTION:
URL:https://aefutbolmesa.es/campeonato/major-de-mallorca-25-26/
LOCATION:Poliesportiu Municipal S’Arenal de Llucmajor\, Avenida Europa s/n\, Llucmajor\, Mallorca\, 07609\, España
CATEGORIES:Campeonato de Nivel 1
END:VEVENT
BEGIN:VEVENT
DTSTART;TZID=Europe/Madrid:20260524T080000
DTEND;TZID=Europe/Madrid:20260524T170000
DTSTAMP:20260419T210113
CREATED:20260409T160949Z
LAST-MODIFIED:20260409T160949Z
UID:3113-1779609600-1779642000@aefutbolmesa.es
SUMMARY:Torneo local de Valencia (III)
DESCRIPTION:
URL:https://aefutbolmesa.es/campeonato/torneo-local-de-valencia-iii/
LOCATION:Pabellón municipal de Cheste\, CV-50\, 46380\, Cheste\, Valencia\, Spain
CATEGORIES:Campeonato de Nivel 3
END:VEVENT
END:VCALENDAR